BEGIN:VCALENDAR
VERSION:2.0
METHOD:PUBLISH
CALSCALE:GREGORIAN
PRODID:-//WordPress - MECv7.31.0//EN
X-ORIGINAL-URL:https://geographecycleclub.org.au/
X-WR-CALNAME:Geographe Cycle Club
X-WR-CALDESC:Social Rides For Cyclists over 50 in the Busselton Area
X-WR-TIMEZONE:Australia/Perth
BEGIN:VTIMEZONE
TZID:Australia/Perth
X-LIC-LOCATION:Australia/Perth
BEGIN:STANDARD
TZOFFSETFROM:+0800
TZOFFSETTO:+0800
TZNAME:AWST
DTSTART:20260425T232355
END:STANDARD
END:VTIMEZONE
REFRESH-INTERVAL;VALUE=DURATION:PT1H
X-PUBLISHED-TTL:PT1H
X-MS-OLK-FORCEINSPECTOROPEN:TRUE
BEGIN:VEVENT
CLASS:PUBLIC
UID:MEC-e9f65207f2bb46c3dc1e5828a08541b2@geographecycleclub.org.au
DTSTART;TZID=Australia/Perth:20260427T080000
DTEND;TZID=Australia/Perth:20260427T180000
DTSTAMP:20260319T111019Z
CREATED:20260319
LAST-MODIFIED:20260319
PRIORITY:5
SEQUENCE:1
TRANSP:OPAQUE
SUMMARY:ANZAC Day Holday
DESCRIPTION:\nUnsupported Ride\n
URL:https://geographecycleclub.org.au/events/anzac-day-holday/
LOCATION:55/33 Dorset St, West Busselton WA 6280
END:VEVENT
BEGIN:VEVENT
CLASS:PUBLIC
UID:MEC-c92b26f68689c7af56b0b08721897732@geographecycleclub.org.au
DTSTART;TZID=Australia/Perth:20260504T080000
DTEND;TZID=Australia/Perth:20260504T180000
DTSTAMP:20260319T111327Z
CREATED:20260319
LAST-MODIFIED:20260319
PRIORITY:5
SEQUENCE:1
TRANSP:OPAQUE
SUMMARY:Andy’s Ride
DESCRIPTION:\nMap 38\n
URL:https://geographecycleclub.org.au/events/andys-ride-3/
ORGANIZER;CN=Rob Gibbons:MAILTO:
CATEGORIES:Rides
LOCATION:55/33 Dorset St, West Busselton WA 6280
END:VEVENT
BEGIN:VEVENT
CLASS:PUBLIC
UID:MEC-6cbab356d49502660d99ed767604a327@geographecycleclub.org.au
DTSTART;TZID=Australia/Perth:20260511T080000
DTEND;TZID=Australia/Perth:20260511T180000
DTSTAMP:20260319T111813Z
CREATED:20260319
LAST-MODIFIED:20260319
PRIORITY:5
SEQUENCE:1
TRANSP:OPAQUE
SUMMARY:Peppermint Beach
DESCRIPTION:\nMap 8\n
URL:https://geographecycleclub.org.au/events/peppermint-beach-3/
ORGANIZER;CN=Rob Gibbons:MAILTO:
CATEGORIES:Rides
LOCATION:55/33 Dorset St, West Busselton WA 6280
END:VEVENT
BEGIN:VEVENT
CLASS:PUBLIC
UID:MEC-e14f2c0c9152f1c78681652ff1189f2b@geographecycleclub.org.au
DTSTART;TZID=Australia/Perth:20260518T080000
DTEND;TZID=Australia/Perth:20260518T180000
DTSTAMP:20260319T112630Z
CREATED:20260319
LAST-MODIFIED:20260319
PRIORITY:5
SEQUENCE:1
TRANSP:OPAQUE
SUMMARY:Trevors Ride
DESCRIPTION:\nMap 34\n
URL:https://geographecycleclub.org.au/events/trevors-ride-10/
ORGANIZER;CN=Rob Gibbons:MAILTO:
CATEGORIES:Rides
LOCATION:55/33 Dorset St, West Busselton WA 6280
END:VEVENT
BEGIN:VEVENT
CLASS:PUBLIC
UID:MEC-f2aaab100e39e5fd93ff0bbb01d4f212@geographecycleclub.org.au
DTSTART;TZID=Australia/Perth:20260525T080000
DTEND;TZID=Australia/Perth:20260525T180000
DTSTAMP:20260319T113143Z
CREATED:20260319
LAST-MODIFIED:20260319
PRIORITY:5
SEQUENCE:1
TRANSP:OPAQUE
SUMMARY:Marine Rescue
DESCRIPTION:\nMap 37\n
URL:https://geographecycleclub.org.au/events/marine-rescue/
ORGANIZER;CN=Rob Gibbons:MAILTO:
CATEGORIES:Rides
LOCATION:55/33 Dorset St, West Busselton WA 6280
END:VEVENT
BEGIN:VEVENT
CLASS:PUBLIC
UID:MEC-4218470a524ef1991202bb63abee5d72@geographecycleclub.org.au
DTSTART;TZID=Australia/Perth:20260601T080000
DTEND;TZID=Australia/Perth:20260601T180000
DTSTAMP:20260319T113331Z
CREATED:20260319
LAST-MODIFIED:20260319
PRIORITY:5
SEQUENCE:1
TRANSP:OPAQUE
SUMMARY:WA Day
DESCRIPTION:\nUnsupported Ride\n
URL:https://geographecycleclub.org.au/events/wa-day-2/
LOCATION:55/33 Dorset St, West Busselton WA 6280
END:VEVENT
BEGIN:VEVENT
CLASS:PUBLIC
UID:MEC-e25f50c93d321b7fdff05757de426238@geographecycleclub.org.au
DTSTART;TZID=Australia/Perth:20260608T080000
DTEND;TZID=Australia/Perth:20260608T180000
DTSTAMP:20260319T113641Z
CREATED:20260319
LAST-MODIFIED:20260319
PRIORITY:5
SEQUENCE:1
TRANSP:OPAQUE
SUMMARY:Ludlow Circuit
DESCRIPTION:\nMap 4\n
URL:https://geographecycleclub.org.au/events/ludlow-circuit-6/
ORGANIZER;CN=Rob Gibbons:MAILTO:
CATEGORIES:Rides
LOCATION:55/33 Dorset St, West Busselton WA 6280
END:VEVENT
BEGIN:VEVENT
CLASS:PUBLIC
UID:MEC-9d89da36533ed04cba9b134a3a77dd7d@geographecycleclub.org.au
DTSTART;TZID=Australia/Perth:20260615T080000
DTEND;TZID=Australia/Perth:20260615T180000
DTSTAMP:20260319T114000Z
CREATED:20260319
LAST-MODIFIED:20260319
PRIORITY:5
SEQUENCE:1
TRANSP:OPAQUE
SUMMARY:Capel/Stratham
DESCRIPTION:\nMap 24\n
URL:https://geographecycleclub.org.au/events/capel-stratham/
ORGANIZER;CN=Rob Gibbons:MAILTO:
CATEGORIES:Rides
LOCATION:24 Buchanan Road, Capel WA 6271
END:VEVENT
BEGIN:VEVENT
CLASS:PUBLIC
UID:MEC-45ebd93b65d907b7f84545b9aed9af8f@geographecycleclub.org.au
DTSTART;TZID=Australia/Perth:20260622T080000
DTEND;TZID=Australia/Perth:20260622T180000
DTSTAMP:20260319T114243Z
CREATED:20260319
LAST-MODIFIED:20260319
PRIORITY:5
SEQUENCE:1
TRANSP:OPAQUE
SUMMARY:Yoongarillup
DESCRIPTION:\nMap 23\n
URL:https://geographecycleclub.org.au/events/yoongarillup/
ORGANIZER;CN=Rob Gibbons:MAILTO:
CATEGORIES:Rides
LOCATION:55/33 Dorset St, West Busselton WA 6280
END:VEVENT
BEGIN:VEVENT
CLASS:PUBLIC
UID:MEC-ae2308e6a29b8ed8d6cac3410fcf3191@geographecycleclub.org.au
DTSTART;TZID=Australia/Perth:20260629T080000
DTEND;TZID=Australia/Perth:20260629T180000
DTSTAMP:20260319T114531Z
CREATED:20260319
LAST-MODIFIED:20260319
PRIORITY:5
SEQUENCE:1
TRANSP:OPAQUE
SUMMARY:Apex Park
DESCRIPTION:\nMap 9\n\n\n\n\n
URL:https://geographecycleclub.org.au/events/apex-park-6/
ORGANIZER;CN=Rob Gibbons:MAILTO:
CATEGORIES:Rides
LOCATION:55/33 Dorset St, West Busselton WA 6280
END:VEVENT
END:VCALENDAR
